BEGIN:VCALENDAR
VERSION:2.0
CALSCALE:GREGORIAN
PRODID:-//WordPress//RSVPMaker//EN
METHOD:REQUEST
BEGIN:VEVENT
DTSTAMP:20260419T142834Z
UID:474FAEB2F7B9EB5C143E98077C76ACE3@rsvpmaker.com
SEQUENCE:0
STATUS:CONFIRMED
DTSTART:20260418T190000Z
DTEND:20260418T200000Z
LOCATION:See\: https\://test.triconinfotech.com/rsvpmaker/ai-leadershi
 p-roundtable-2026-bengaluru/
SUMMARY:AI Leadership Roundtable 2026 –  - Bengaluru
DESCRIPTION:Event info\: https\://test.triconinfotech.com/rsvpmaker/ai
 -leadership-roundtable-2026-bengaluru/
END:VEVENT
END:VCALENDAR